BEGIN:VCALENDAR
VERSION:2.0
PRODID:-//Anam Cara - ECPv6.15.20//NONSGML v1.0//EN
CALSCALE:GREGORIAN
METHOD:PUBLISH
X-WR-CALNAME:Anam Cara
X-ORIGINAL-URL:https://anamcara-ny.org
X-WR-CALDESC:Events for Anam Cara
REFRESH-INTERVAL;VALUE=DURATION:PT1H
X-Robots-Tag:noindex
X-PUBLISHED-TTL:PT1H
BEGIN:VTIMEZONE
TZID:America/New_York
BEGIN:DAYLIGHT
TZOFFSETFROM:-0500
TZOFFSETTO:-0400
TZNAME:EDT
DTSTART:20250309T070000
END:DAYLIGHT
BEGIN:STANDARD
TZOFFSETFROM:-0400
TZOFFSETTO:-0500
TZNAME:EST
DTSTART:20251102T060000
END:STANDARD
BEGIN:DAYLIGHT
TZOFFSETFROM:-0500
TZOFFSETTO:-0400
TZNAME:EDT
DTSTART:20260308T070000
END:DAYLIGHT
BEGIN:STANDARD
TZOFFSETFROM:-0400
TZOFFSETTO:-0500
TZNAME:EST
DTSTART:20261101T060000
END:STANDARD
BEGIN:DAYLIGHT
TZOFFSETFROM:-0500
TZOFFSETTO:-0400
TZNAME:EDT
DTSTART:20270314T070000
END:DAYLIGHT
BEGIN:STANDARD
TZOFFSETFROM:-0400
TZOFFSETTO:-0500
TZNAME:EST
DTSTART:20271107T060000
END:STANDARD
END:VTIMEZONE
BEGIN:VEVENT
DTSTART;TZID=America/New_York:20260301T070000
DTEND;TZID=America/New_York:20260301T120000
DTSTAMP:20260420T214207
CREATED:20260115T150708Z
LAST-MODIFIED:20260203T173542Z
UID:10000956-1772348400-1772366400@anamcara-ny.org
SUMMARY:Abiding In The Sacred
DESCRIPTION:Abiding In The Sacred – mini retreat\n7am-noon ET\, Sunday March 1\, 2026; via zoom\, led by Lawrence Edwards\, PhD\nCome home to the Divine within through the sacred practices of silence\, stillness\, mindfulness\, meditation\, mantra\, chanting\, contemplation and community.  \nThe 5 hour mini retreat will have periods of chanting\, silent meditation\, walking meditation\, contemplation and discussion.  Everyone is welcome! Enjoy adding this extra empowerment of the sacred in your home and your practice! \nPast retreatants said: \n“The retreat was amazing. WOW!!\nIt was so beautiful.\nIt was just wonderful meditation the whole time\, I even stayed meditating after.” \n“Definitely\, more of these mini meditation retreats are needed!\nThey are a must. So much Shakti\, so much.\nOm Namah Shivaya”   \n“This retreat is a deep\, immersive journey into spiritual practice—a powerful\nopportunity to deepen your relationship with awareness and practice\nwitnessing your thoughts and movements without identification. The session\nfocuses on using meditation to know your true\, infinite nature\, not just for\nrelaxation or stress management. Through guided meditation\, chanting\, and\nteachings\, you’ll explore the nature of consciousness as the unifying light\nbehind all of life’s experiences\, with Lawrence pointing toward a freedom that\ncan become available whether we are sitting in meditation or navigating the\nchallenges of daily life.”    \n“I relish any opportunity to gather with you and other lovers of the Divine in your retreats and courses!” \n“Doing the retreat at home really strengthened the feeling of my home as a refuge and sanctuary.  And I didn’t have to leave it at the end of the retreat!” \nRegistration is required to receive the zoom link. Please email info@thesoulsjourney.com to register. \nThe fee is your donation.  Giving generously is itself a sacred practice call dana in the Buddhist tradition.  Practice to your heart’s content!  To donate via Venmo: @ACMeditation\, or through PayPal: paypal.me/drle. Zelle: le@optimalmind.net. Checks can be made out to Lawrence Edwards and mailed to P.O. Box 87\, Bedford\, NY 10506.  If you have any questions please email info@anamcara-ny.org. \nRegistration closes 2/28/26
URL:https://anamcara-ny.org/event/abiding-in-the-sacred-2/
LOCATION:Lawrence Edwards\, PhD – Zoom
CATEGORIES:Retreats
END:VEVENT
BEGIN:VEVENT
DTSTART;TZID=America/New_York:20260305T191500
DTEND;TZID=America/New_York:20260305T203000
DTSTAMP:20260420T214207
CREATED:20251119T172210Z
LAST-MODIFIED:20251119T181643Z
UID:10000122-1772738100-1772742600@anamcara-ny.org
SUMMARY:Bi-Weekly Meditation Sessions
DESCRIPTION:Open Meditation: \n\n1st & 3rd Thursdays each month – except holidays\n\n7:15-8:30pm\nOnline at Zoom.com:\nhttps://us02web.zoom.us/j/665891390?pwd=RDBZSFBTd0dpNTZwQzFoKzVEUUtYdz09\nMeeting ID: 665 891 390    Password: OmKaliMa\nPrograms include instruction\, chanting and meditation\n\nNo registration necessary.\nFee: by donation\nFirst Thursday of the month: dharma talk\nThird Thursday: chanting/Heart Sutra\n\n\n Everyone is welcome!\n Led by Lawrence Edwards\, PhD\, Founder & Director  \nSwatantriya Meditation – the meditation of absolute freedom. This is the form of meditation taught by Lawrence and includes practices from all traditions. Swatantriya Meditation is based on the inner power of Consciousness called Kundalini in the yogic tradition. It embraces and empowers all meditation techniques to take you beyond the confines of the ordinary mind. \nWe offer an ongoing nondenominational meditation class that meets every Thursday evening\, except for holidays. People can come as frequently as they like. There’s no need to sign up for a series of sessions. We offer these meditation sessions to support people in their ongoing meditation practices. Enjoy!\nFee: All donations gratefully accepted ($20 suggested donation per session). \nAll donations go to support the Anam Cara Meditation. Beginners are welcome\, along with experienced meditators. A wide variety of techniques and practices are taught\, including chanting\, mantra and mindfulness meditation. \nIf the group is going to be canceled on any evening a message on 845-304-4965 will state that the group is canceled for that evening\, otherwise we meet via Zoom as scheduled.
URL:https://anamcara-ny.org/event/weekly-meditation-sessions-2022-01-06-2022-04-14-2022-04-21-2-2/2026-03-05/
LOCATION:Anam Cara Meditation\, https://us02web.zoom.us/j/665891390?pwd=RDBZSFBTd0dpNTZwQzFoKzVEUUtYdz09\, Zoom Meeting 665 891 390
CATEGORIES:Bi-Weekly Events
ATTACH;FMTTYPE=image/jpeg:https://anamcara-ny.org/wp-content/uploads/2018/07/anam.jpg
GEO:41.1245781;-73.6992834
X-APPLE-STRUCTURED-LOCATION;VALUE=URI;X-ADDRESS=Anam Cara Meditation https://us02web.zoom.us/j/665891390?pwd=RDBZSFBTd0dpNTZwQzFoKzVEUUtYdz09 Zoom Meeting 665 891 390;X-APPLE-RADIUS=500;X-TITLE=https://us02web.zoom.us/j/665891390?pwd=RDBZSFBTd0dpNTZwQzFoKzVEUUtYdz09:geo:-73.6992834,41.1245781
END:VEVENT
BEGIN:VEVENT
DTSTART;TZID=America/New_York:20260319T191500
DTEND;TZID=America/New_York:20260319T203000
DTSTAMP:20260420T214207
CREATED:20251119T180455Z
LAST-MODIFIED:20251119T181433Z
UID:10000887-1773947700-1773952200@anamcara-ny.org
SUMMARY:Bi-Weekly Meditation Sessions
DESCRIPTION:Open Meditation: \n\n1st & 3rd Thursdays each month – except holidays\n\n7:15-8:30pm\nOnline at Zoom.com:\nhttps://us02web.zoom.us/j/665891390?pwd=RDBZSFBTd0dpNTZwQzFoKzVEUUtYdz09\nMeeting ID: 665 891 390    Password: OmKaliMa\nPrograms include instruction\, chanting and meditation\n\nNo registration necessary.\nFee: by donation\nFirst Thursday of the month: dharma talk\nThird Thursday: chanting/Heart Sutra\n\n\n Everyone is welcome!\n Led by Lawrence Edwards\, PhD\, Founder & Director  \nSwatantriya Meditation – the meditation of absolute freedom. This is the form of meditation taught by Lawrence and includes practices from all traditions. Swatantriya Meditation is based on the inner power of Consciousness called Kundalini in the yogic tradition. It embraces and empowers all meditation techniques to take you beyond the confines of the ordinary mind. \nWe offer an ongoing nondenominational meditation class that meets every Thursday evening\, except for holidays. People can come as frequently as they like. There’s no need to sign up for a series of sessions. We offer these meditation sessions to support people in their ongoing meditation practices. Enjoy!\nFee: All donations gratefully accepted ($20 suggested donation per session). \nAll donations go to support the Anam Cara Meditation. Beginners are welcome\, along with experienced meditators. A wide variety of techniques and practices are taught\, including chanting\, mantra and mindfulness meditation. \nIf the group is going to be canceled on any evening a message on 845-304-4965 will state that the group is canceled for that evening\, otherwise we meet via Zoom as scheduled.
URL:https://anamcara-ny.org/event/weekly-meditation-sessions-2022-01-06-2022-04-14-2022-04-21-2-3-2-2/2026-03-19/
LOCATION:Anam Cara Meditation\, https://us02web.zoom.us/j/665891390?pwd=RDBZSFBTd0dpNTZwQzFoKzVEUUtYdz09\, Zoom Meeting 665 891 390
CATEGORIES:Bi-Weekly Events
ATTACH;FMTTYPE=image/jpeg:https://anamcara-ny.org/wp-content/uploads/2018/07/anam.jpg
GEO:41.1245781;-73.6992834
X-APPLE-STRUCTURED-LOCATION;VALUE=URI;X-ADDRESS=Anam Cara Meditation https://us02web.zoom.us/j/665891390?pwd=RDBZSFBTd0dpNTZwQzFoKzVEUUtYdz09 Zoom Meeting 665 891 390;X-APPLE-RADIUS=500;X-TITLE=https://us02web.zoom.us/j/665891390?pwd=RDBZSFBTd0dpNTZwQzFoKzVEUUtYdz09:geo:-73.6992834,41.1245781
END:VEVENT
END:VCALENDAR