BEGIN:VCALENDAR
VERSION:2.0
PRODID:-//Anam Cara - ECPv6.15.20//NONSGML v1.0//EN
CALSCALE:GREGORIAN
METHOD:PUBLISH
X-ORIGINAL-URL:https://anamcara-ny.org
X-WR-CALDESC:Events for Anam Cara
REFRESH-INTERVAL;VALUE=DURATION:PT1H
X-Robots-Tag:noindex
X-PUBLISHED-TTL:PT1H
BEGIN:VTIMEZONE
TZID:America/New_York
BEGIN:DAYLIGHT
TZOFFSETFROM:-0500
TZOFFSETTO:-0400
TZNAME:EDT
DTSTART:20240310T070000
END:DAYLIGHT
BEGIN:STANDARD
TZOFFSETFROM:-0400
TZOFFSETTO:-0500
TZNAME:EST
DTSTART:20241103T060000
END:STANDARD
BEGIN:DAYLIGHT
TZOFFSETFROM:-0500
TZOFFSETTO:-0400
TZNAME:EDT
DTSTART:20250309T070000
END:DAYLIGHT
BEGIN:STANDARD
TZOFFSETFROM:-0400
TZOFFSETTO:-0500
TZNAME:EST
DTSTART:20251102T060000
END:STANDARD
BEGIN:DAYLIGHT
TZOFFSETFROM:-0500
TZOFFSETTO:-0400
TZNAME:EDT
DTSTART:20260308T070000
END:DAYLIGHT
BEGIN:STANDARD
TZOFFSETFROM:-0400
TZOFFSETTO:-0500
TZNAME:EST
DTSTART:20261101T060000
END:STANDARD
END:VTIMEZONE
BEGIN:VEVENT
DTSTART;TZID=America/New_York:20251213T070000
DTEND;TZID=America/New_York:20251213T120000
DTSTAMP:20260415T123658
CREATED:20251118T193205Z
LAST-MODIFIED:20251118T212951Z
UID:10000562-1765609200-1765627200@anamcara-ny.org
SUMMARY:Abiding In The Sacred
DESCRIPTION:Abiding In The Sacred\n7am-noon ET\, Saturday Dec. 13th via zoom\, led by Lawrence Edwards\, PhD\nIn this holiday season come home to the Divine within through the sacred practices of silence\, stillness\, meditation\, mantra\, chanting\, contemplation and community.  \nThe 5 hour mini retreat will have periods of chanting\, silent meditation\, walking meditation\, contemplation and discussion.  Everyone is welcome! Enjoy adding this extra element of the sacred to your home for the holidays! \nRegistration is required to receive the zoom link. Please email info@thesoulsjourney.com to register. \nThe fee is your donation.  Giving generously is itself a sacred practice call dana in the Buddhist tradition.  Practice to your heart’s content!  To donate via Venmo: @ACMeditation\, or through PayPal: paypal.me/drle. Zelle: le@optimalmind.net. Checks can be made out to Lawrence Edwards and mailed to P.O. Box 87\, Bedford\, NY 10506.  If you have any questions please email info@anamcara-ny.org. \nRegistration closes 12/12/25
URL:https://anamcara-ny.org/event/abiding-in-the-sacred/
LOCATION:Lawrence Edwards\, PhD – Zoom
CATEGORIES:Retreats
END:VEVENT
END:VCALENDAR