BEGIN:VCALENDAR
VERSION:2.0
PRODID:-//Anam Cara - ECPv6.15.20//NONSGML v1.0//EN
CALSCALE:GREGORIAN
METHOD:PUBLISH
X-WR-CALNAME:Anam Cara
X-ORIGINAL-URL:https://anamcara-ny.org
X-WR-CALDESC:Events for Anam Cara
REFRESH-INTERVAL;VALUE=DURATION:PT1H
X-Robots-Tag:noindex
X-PUBLISHED-TTL:PT1H
BEGIN:VTIMEZONE
TZID:America/New_York
BEGIN:DAYLIGHT
TZOFFSETFROM:-0500
TZOFFSETTO:-0400
TZNAME:EDT
DTSTART:20220313T070000
END:DAYLIGHT
BEGIN:STANDARD
TZOFFSETFROM:-0400
TZOFFSETTO:-0500
TZNAME:EST
DTSTART:20221106T060000
END:STANDARD
BEGIN:DAYLIGHT
TZOFFSETFROM:-0500
TZOFFSETTO:-0400
TZNAME:EDT
DTSTART:20230312T070000
END:DAYLIGHT
BEGIN:STANDARD
TZOFFSETFROM:-0400
TZOFFSETTO:-0500
TZNAME:EST
DTSTART:20231105T060000
END:STANDARD
BEGIN:DAYLIGHT
TZOFFSETFROM:-0500
TZOFFSETTO:-0400
TZNAME:EDT
DTSTART:20240310T070000
END:DAYLIGHT
BEGIN:STANDARD
TZOFFSETFROM:-0400
TZOFFSETTO:-0500
TZNAME:EST
DTSTART:20241103T060000
END:STANDARD
END:VTIMEZONE
BEGIN:VEVENT
DTSTART;TZID=America/New_York:20230604T160000
DTEND;TZID=America/New_York:20230604T173000
DTSTAMP:20260424T103925
CREATED:20230421T151002Z
LAST-MODIFIED:20230426T202352Z
UID:10000016-1685894400-1685899800@anamcara-ny.org
SUMMARY:Listening To The Divine Within: Readings & Contemplations From "Gently Falls Her Rain Of Light"
DESCRIPTION:Meets every Sunday for 8 weeks starting June 4- July 30\, 2023.  Each session is 1.5hrs.  We’ll skip July 2nd for the holiday weekend. \nIn this 8 week\, 12 hour contemplative course we’ll dive into the gifts of the Divine heard by Kalidas and offered in this unpublished new collection.  This kind of sacred poetry invites us to enter the joyous\, grace-filled world of our inner mystic\, our inner knower of the Truth\, where revelation and transformation naturally arise and the state of meditation is always fully present.  That state is the state of your highest nature.  Knowing that fully and living it into the world is the ultimate aim of all meditative and yogic practices. \nThe deep sharing and communion that unfolded within the sessions of these courses has led to tears of joy\, profound new vistas and clearer ways of perceiving the living presence of the Divine\, here\, now\, always.  People shared what the poetry stirred in them\, questions\, insights\, even their own poetry. This unique type of satsang then informs our meditation practices and our everyday lives. \nThe book isn’t published yet so private copies of the poems discussed will be available to participants. The sessions will be audio recorded and made available to everyone for 3 months after each session. Participants sign up for the whole course. The fee is $295 per person.  If a person can’t afford that\, then they can contact me at info@thesoulsjourney.com and we’ll make sure that all who want to participate can.  Some people offer more for courses than required and that allows us to offer reductions for those who can’t be as generous as they would like to be.  We’re very grateful to those who are so generous and for the joy they share in anonymously giving support to others. We’ve had people donate money even when they themselves can’t participate in the programs\, just to support others.  By their grace and large heartedness Anam Cara Meditation offers all it can. \nTo register: email info@thesoulsjourney.com and make your payment to Venmo @Lawrence-Edwards-3 or via PayPal: https://paypal.me/drle  For other ways to make your offering for the course please email info@thesoulsjourney.com. \nThe Zoom link for the course will be provided to all registered and paid participants.\nIf you have any questions please email them to info@thesoulsjourney.com. \nI look forward to seeing you in the course!
URL:https://anamcara-ny.org/event/listening-to-the-divine-within-readings-contemplations-from-gently-her-rain-of-light-falls/2023-06-04/
LOCATION:Lawrence Edwards\, PhD – Zoom
CATEGORIES:Courses
ORGANIZER;CN="Lawrence Edwards%2C PhD":MAILTO:info@thesoulsjourney.com
END:VEVENT
END:VCALENDAR