BEGIN:VCALENDAR
VERSION:2.0
PRODID:-//Anam Cara - ECPv6.15.20//NONSGML v1.0//EN
CALSCALE:GREGORIAN
METHOD:PUBLISH
X-ORIGINAL-URL:https://anamcara-ny.org
X-WR-CALDESC:Events for Anam Cara
REFRESH-INTERVAL;VALUE=DURATION:PT1H
X-Robots-Tag:noindex
X-PUBLISHED-TTL:PT1H
BEGIN:VTIMEZONE
TZID:America/New_York
BEGIN:DAYLIGHT
TZOFFSETFROM:-0500
TZOFFSETTO:-0400
TZNAME:EDT
DTSTART:20220313T070000
END:DAYLIGHT
BEGIN:STANDARD
TZOFFSETFROM:-0400
TZOFFSETTO:-0500
TZNAME:EST
DTSTART:20221106T060000
END:STANDARD
BEGIN:DAYLIGHT
TZOFFSETFROM:-0500
TZOFFSETTO:-0400
TZNAME:EDT
DTSTART:20230312T070000
END:DAYLIGHT
BEGIN:STANDARD
TZOFFSETFROM:-0400
TZOFFSETTO:-0500
TZNAME:EST
DTSTART:20231105T060000
END:STANDARD
BEGIN:DAYLIGHT
TZOFFSETFROM:-0500
TZOFFSETTO:-0400
TZNAME:EDT
DTSTART:20240310T070000
END:DAYLIGHT
BEGIN:STANDARD
TZOFFSETFROM:-0400
TZOFFSETTO:-0500
TZNAME:EST
DTSTART:20241103T060000
END:STANDARD
END:VTIMEZONE
BEGIN:VEVENT
DTSTART;TZID=America/New_York:20230305T160000
DTEND;TZID=America/New_York:20230305T173000
DTSTAMP:20260423T144725
CREATED:20221228T222039Z
LAST-MODIFIED:20221228T222039Z
UID:10000034-1678032000-1678037400@anamcara-ny.org
SUMMARY:Kali's Bazaar penned by Kalidas - Contemplation & Meditation
DESCRIPTION:NEW COURSE – Part Two: \nKali’s Bazaar penned by Kalidas –\nContemplation & Meditation\n\n\n8 Sundays – Feb 5- March 26\, 2023 Live via Zoom\n\n\n\nThis course is open to everyone\, no need to have participated in Part One.  We will begin with the second half of the book.\nSundays 4-5:30pm ET.  2/5 – 3/26.\nPre-registration required.\nEmail  info@thesoulsjourney.com to register.\nZoom link given to registered participants.  Space is limited to facilitate discussions\, please register early.\nAudio recordings of the sessions are made available to all participants in case one has to miss a session.\n \nRegistration fee: 12 hr course – $295.  Pay via PayPal:  https://paypal.me/drle or  Venmo: @lawrence-edwards-3.  For other options for making a payment please email info@thesoulsjourney.com.\nNo one will be turned away because of money.  Email us if you have questions.  Some people taking our courses offer more than the fee in order to help those who can’t afford it.  Your generosity is greatly appreciated!\nRegistration closes on 2/4/23 or when the course fills. \nLawrence Edwards\, PhD leads this live 8 week course\, 1.5hr per session\, exploring the wisdom gifts contained in the book Kali’s Bazaar penned by Kalidas.  Sessions will include discussions related to sacred poetry\, meditation\, Kundalini and spiritual development; contemplation; and meditation. \nYou can order the book online or at your favorite bookstore.
URL:https://anamcara-ny.org/event/kalis-bazaar-penned-by-kalidas-contemplation-meditation-2/2023-03-05/
LOCATION:Lawrence Edwards\, PhD – Zoom
CATEGORIES:Courses
END:VEVENT
END:VCALENDAR